BEGIN:VCALENDAR
VERSION:2.0
PRODID:-//RCLCO Real Estate Consulting - ECPv4.6.19//NONSGML v1.0//EN
CALSCALE:GREGORIAN
METHOD:PUBLISH
X-WR-CALNAME:RCLCO Real Estate Consulting
X-ORIGINAL-URL:http://rclco2024.lvdev.net
X-WR-CALDESC:Events for RCLCO Real Estate Consulting
BEGIN:VEVENT
DTSTART;TZID=UTC+0:20170314T082000
DTEND;TZID=UTC+0:20170314T090000
DTSTAMP:20260423T162847
CREATED:20181108T214809Z
LAST-MODIFIED:20221027T163316Z
UID:5588-1489479600-1489482000@rclco2024.lvdev.net
SUMMARY:West San Gabriel Valley Association of Realtors Commercial Investment Meeting
DESCRIPTION:Join WSGVAR as Sara Kramer\, Vice President of Consulting at RCLCO presents her topic on the Urban Land Institute. \n
URL:http://rclco2024.lvdev.net/event/west-san-gabriel-valley-association-of-realtors-commercial-investment-meeting/
LOCATION:1039 E. Valley Blvd. #205B San Gabriel\, CA 91776\, San Gabriel\, California\, United States
CATEGORIES:Speaker
END:VEVENT
END:VCALENDAR