BEGIN:VCALENDAR
VERSION:2.0
PRODID:-//RCLCO Real Estate Consulting - ECPv4.6.19//NONSGML v1.0//EN
CALSCALE:GREGORIAN
METHOD:PUBLISH
X-WR-CALNAME:RCLCO Real Estate Consulting
X-ORIGINAL-URL:http://rclco2024.lvdev.net
X-WR-CALDESC:Events for RCLCO Real Estate Consulting
BEGIN:VEVENT
DTSTART;TZID=UTC+0:20140613T051000
DTEND;TZID=UTC+0:20140613T061000
DTSTAMP:20260422T183943
CREATED:20181108T214602Z
LAST-MODIFIED:20181112T162613Z
UID:5475-1402636200-1402639800@rclco2024.lvdev.net
SUMMARY:Vision Quest: Our Florida\, Our Future
DESCRIPTION:Between 2000 and 2013\, the U.S. population increased by an estimated 33.6 million. No one doubts the future will be challenging\, not just for Florida\, but for the nation and the world. Forces are converging to create unprecedented changes in technology\, the economy\, the environment\, and world affairs. Those changes will tax Florida’s ability to make wise and prudent decisions to prepare for success as they occur. This session will discuss the disruptive demographics facing us\, market\, economic\, and environmental issues impacting our work and and through interactive group discussion offer a chance for the participants to create the Florida they desire. \n
URL:http://rclco2024.lvdev.net/event/vision-quest-our-florida-our-future-2/
LOCATION:35 Ocean Reef Drive Key Largo\, FL 33037\, Key Largo\, Florida\, United States
END:VEVENT
END:VCALENDAR