BEGIN:VCALENDAR
VERSION:2.0
PRODID:-//RCLCO Real Estate Consulting - ECPv4.6.19//NONSGML v1.0//EN
CALSCALE:GREGORIAN
METHOD:PUBLISH
X-WR-CALNAME:RCLCO Real Estate Consulting
X-ORIGINAL-URL:http://rclco2024.lvdev.net
X-WR-CALDESC:Events for RCLCO Real Estate Consulting
BEGIN:VEVENT
DTSTART;TZID=UTC+0:20160223T093000
DTEND;TZID=UTC+0:20160223T103000
DTSTAMP:20260423T145041
CREATED:20181108T214655Z
LAST-MODIFIED:20181112T160618Z
UID:5529-1456219800-1456223400@rclco2024.lvdev.net
SUMMARY:Value-Added vs. Financial Engineering
DESCRIPTION:The majority of investors are looking to move up the risk curve for yield-generating investment options. How can a capital-starved asset be repositioned in the market? How can an asset be put to work to generate alpha? \nModerator: \n\nTimothy Smith\, President & Chief Investment Officer\, Petro Lucrum\, Inc\n\nPanelists: \n\nYuen Yung\, Chief Executive Officer\, Casoro Capital Partners\nDamon Pitler\, Investment Manager – Real Assets\, Teacher Retirement System of Texas\nNeil Madsen\, Managing Director\, RCLCO\nSebastiano Ferrante\, Portfolio Manager & Head of Germany\, Italy\, Prudential Real Estate Investors\n\n
URL:http://rclco2024.lvdev.net/event/value-added-vs-financial-engineering/
LOCATION:701 E 11th St\, Austin\, Texas 78701\, Austin\, Texas\, United States
CATEGORIES:Panelist
END:VEVENT
END:VCALENDAR