BEGIN:VCALENDAR
VERSION:2.0
PRODID:-//RCLCO Real Estate Consulting - ECPv4.6.19//NONSGML v1.0//EN
CALSCALE:GREGORIAN
METHOD:PUBLISH
X-WR-CALNAME:RCLCO Real Estate Consulting
X-ORIGINAL-URL:http://rclco2024.lvdev.net
X-WR-CALDESC:Events for RCLCO Real Estate Consulting
BEGIN:VEVENT
DTSTART;TZID=UTC+0:20150123T070000
DTEND;TZID=UTC+0:20150123T082000
DTSTAMP:20260423T201803
CREATED:20181108T214622Z
LAST-MODIFIED:20181112T161627Z
UID:5496-1421996400-1422001200@rclco2024.lvdev.net
SUMMARY:University of Pennsylvania
DESCRIPTION:Open to all UPenn students and alumni\, and those interested in learning about RCLCO and real estate. \n
URL:http://rclco2024.lvdev.net/event/university-of-pennsylvania/
LOCATION:Bodek Lounge in Houston Hall\, 3417 Spruce Street\, Philadelphia\, PA 19104\, Philadelphia\, United States
CATEGORIES:recruiting
END:VEVENT
END:VCALENDAR