BEGIN:VCALENDAR
VERSION:2.0
PRODID:-//RCLCO Real Estate Consulting - ECPv4.6.19//NONSGML v1.0//EN
CALSCALE:GREGORIAN
METHOD:PUBLISH
X-WR-CALNAME:RCLCO Real Estate Consulting
X-ORIGINAL-URL:http://rclco2024.lvdev.net
X-WR-CALDESC:Events for RCLCO Real Estate Consulting
BEGIN:VEVENT
DTSTART;TZID=UTC+0:20150430T093000
DTEND;TZID=UTC+0:20150430T102000
DTSTAMP:20260423T225735
CREATED:20181108T214625Z
LAST-MODIFIED:20181112T161600Z
UID:5501-1430386200-1430389200@rclco2024.lvdev.net
SUMMARY:Understanding the Market for Pedestrian Malls 2.0
DESCRIPTION:As the 23rd annual Congress comes to Dallas-Fort Worth Texas this spring\, North America stands at the cusp of two eras: For three generations we have built car-oriented infrastructure\, housing\, and businesses; Now we face tremendous pent-up demand for walkable\, people-oriented places. \nThe dynamic\, fourth-largest metro in the US exemplifies the opportunity to transform itself through better design\, development\, and transportation policy in response to shifting needs and demographics. \nCNU 23: Meeting the Demand for Walkable Places will convene placemakers from across North American on a mission to advance the form and function of regions\, cities\, towns\, and suburbs—now and in the future. \nBe part of the energy and excitement in DFW for CNU 23\, April 29 – May 2\, 2015 by learning\, networking\, and collaborating with the top real estate developers\, architects\, public officials\, planners\, engineers\, and advocates working to make our cities better places. \n
URL:http://rclco2024.lvdev.net/event/understanding-the-market-for-pedestrian-malls-2-0/
LOCATION:1321 Commerce Street\, Dallas\, TX 75202\, Dallas\, Texas\, United States
END:VEVENT
END:VCALENDAR