BEGIN:VCALENDAR
VERSION:2.0
PRODID:-//RCLCO Real Estate Consulting - ECPv4.6.19//NONSGML v1.0//EN
CALSCALE:GREGORIAN
METHOD:PUBLISH
X-WR-CALNAME:RCLCO Real Estate Consulting
X-ORIGINAL-URL:http://rclco2024.lvdev.net
X-WR-CALDESC:Events for RCLCO Real Estate Consulting
BEGIN:VEVENT
DTSTART;TZID=UTC+0:20170907T111000
DTEND;TZID=UTC+0:20170907T130000
DTSTAMP:20260423T161538
CREATED:20181108T214848Z
LAST-MODIFIED:20181112T154839Z
UID:5619-1504782600-1504789200@rclco2024.lvdev.net
SUMMARY:ULI Young Leaders Group
DESCRIPTION:Learn From the Best features an all-star line up of the Los Angeles’s top real estate professionals. The premise is simple: take 150 Young Leaders and a group of top Los Angeles land use and real estate experts\, pair them into small groups\, and let them have a conversation for 20 minutes about topics such as tips on career success\, personal anecdotes\, the state of the industry\, tricks of the trade\, current projects and trends\, and more. \nDuring the program\, Young Leaders will spend quality time rotating between four different industry professionals\, allowing for a broad mix of insights. The result is a rewarding experience\, which allows the next generation of real estate professionals to learn from recognized industry leaders in an intimate group setting. Light refreshments will be served. This is a members only event. \nMentors:\n\nMichael Banner\, Los Angeles LDC\, President & CEO\nKevin Farrell\, Fifield/Century West Partners\, COO\nAmelia Feichtner\, Cuningham Group Architecture\, Principal\, Urban Living\nBob Gardner\, RCLCO\, Managing Director\nGary Mozer\, George Smith Partners\, Principal & Managing Director\nShmel Graham\, Office of Mayor Garcetti’s Operations Innovation Team\, Director\nKirk Helgeson\, American Realty Advisors\, CIO\nBrian Jones\, BMJ Advisors\, President\nPaul Keller\, Mack Urban\, CEO\nAllison Lynch\, Watt Companies\, SVP Asset Management\nPatricia Rhee\, Ehrlich Yanai Rhee Chaney Architects\, Principal & Partner\nKevin Shannon\, Newmark Grubb Knight Frank\, President – West Coast Markets\nRon Silverman\, Cox Castle & Nicholson\, Partner\nJosh Vasbinder\, The Dinerstien Company\, Managing Partner – West Coast\nRick Vogel\, Related Urban\, SVP\nKenya Williams\, JP Morgan Chase & Co.\, Executive Director\n\n
URL:http://rclco2024.lvdev.net/event/uli-young-leaders-group/
LOCATION:800 Wilshire Blvd.\, Suite 200\, Los Angeles\, CA 90017\, Los Angeles\, California\, United States
CATEGORIES:Panelist
END:VEVENT
END:VCALENDAR