BEGIN:VCALENDAR
VERSION:2.0
PRODID:-//RCLCO Real Estate Consulting - ECPv4.6.19//NONSGML v1.0//EN
CALSCALE:GREGORIAN
METHOD:PUBLISH
X-WR-CALNAME:RCLCO Real Estate Consulting
X-ORIGINAL-URL:http://rclco2024.lvdev.net
X-WR-CALDESC:Events for RCLCO Real Estate Consulting
BEGIN:VEVENT
DTSTART;VALUE=DATE:20171212
DTEND;VALUE=DATE:20171213
DTSTAMP:20260423T191021
CREATED:20181108T214910Z
LAST-MODIFIED:20181112T154530Z
UID:5635-1513036800-1513123199@rclco2024.lvdev.net
SUMMARY:ULI Washington Regional Initiative Council
DESCRIPTION:Private meeting of the ULI Washington Regional Initiative Council with presentation by Adam Ducker\, Managing Director of RCLCO \n
URL:http://rclco2024.lvdev.net/event/uli-washington-regional-initiative-council/
LOCATION:2001 L Street NW\, Suite 200\, Washington\, DC 20036\, Washington\, DC\, United States
CATEGORIES:Speaker
END:VEVENT
END:VCALENDAR