BEGIN:VCALENDAR
VERSION:2.0
PRODID:-//RCLCO Real Estate Consulting - ECPv4.6.19//NONSGML v1.0//EN
CALSCALE:GREGORIAN
METHOD:PUBLISH
X-WR-CALNAME:RCLCO Real Estate Consulting
X-ORIGINAL-URL:http://rclco2024.lvdev.net
X-WR-CALDESC:Events for RCLCO Real Estate Consulting
BEGIN:VEVENT
DTSTART;TZID=UTC+0:20180503T054000
DTEND;TZID=UTC+0:20180503T060000
DTSTAMP:20260423T173318
CREATED:20181108T214950Z
LAST-MODIFIED:20181112T154000Z
UID:5663-1525326000-1525327200@rclco2024.lvdev.net
SUMMARY:ULI Spring Meeting: Council Day
DESCRIPTION:CDC Black; by invitation only. \n
URL:http://rclco2024.lvdev.net/event/uli-spring-meeting-council-day-2/
LOCATION:4420\, 1 Washington Blvd\, Detroit\, MI 48226\, Detroit\, Michigan\, United States
CATEGORIES:Speaker
END:VEVENT
END:VCALENDAR