BEGIN:VCALENDAR
VERSION:2.0
PRODID:-//RCLCO Real Estate Consulting - ECPv4.6.19//NONSGML v1.0//EN
CALSCALE:GREGORIAN
METHOD:PUBLISH
X-WR-CALNAME:RCLCO Real Estate Consulting
X-ORIGINAL-URL:http://rclco2024.lvdev.net
X-WR-CALDESC:Events for RCLCO Real Estate Consulting
BEGIN:VEVENT
DTSTART;TZID=UTC+0:20150514T051000
DTEND;TZID=UTC+0:20150514T061000
DTSTAMP:20260423T162327
CREATED:20181108T214628Z
LAST-MODIFIED:20181112T161514Z
UID:5505-1431580200-1431583800@rclco2024.lvdev.net
SUMMARY:ULI RDC Red: Rapid Fire Member Deals and Data
DESCRIPTION:Listen to members provide a quick summary on a unique or topical deal\, or a trend or issue relevant to our industry\, followed by a short Q&A to get the day going. \n
URL:http://rclco2024.lvdev.net/event/uli-rdc-red-rapid-fire-member-deals-and-data/
LOCATION:1600 Lamar Houston\, Texas 77010\, Houston\, Texas\, United States
END:VEVENT
END:VCALENDAR