BEGIN:VCALENDAR
VERSION:2.0
PRODID:-//RCLCO Real Estate Consulting - ECPv4.6.19//NONSGML v1.0//EN
CALSCALE:GREGORIAN
METHOD:PUBLISH
X-WR-CALNAME:RCLCO Real Estate Consulting
X-ORIGINAL-URL:http://rclco2024.lvdev.net
X-WR-CALDESC:Events for RCLCO Real Estate Consulting
BEGIN:VEVENT
DTSTART;TZID=UTC+0:20170731T042000
DTEND;TZID=UTC+0:20170731T051000
DTSTAMP:20260423T160217
CREATED:20181108T214841Z
LAST-MODIFIED:20181112T154912Z
UID:5614-1501474800-1501477800@rclco2024.lvdev.net
SUMMARY:ULI Midsummer Retreat
DESCRIPTION:Invitation-Only Event\nWe are living in interesting times. And “borders” mean different things to different people. This thought leadership program will focus on how businesses are working across borders and within borders to maximize resources and profitability. District Council and Product Council members have come together across their borders to create a program that is compelling and informative and will showcase the power of integrating these two networks for a very special program outcome. \nModerator:\nGadi Kaufmann\, RCLCO \nDiscussion Leaders:\nJohn Brownlee\, HFF\, Lucas\, Texas \nMark E. Drumm\, Stratford Land \nFranz Colloredo-Mansfeld\, Cabot Properties \nDerek Goring\, First Gulf Corporation\, Toronto\, Canada \nJay Leupp\, Lazard Asset Management \nAmy Vandervelde\, GWL Realty Advisors\, Alberta \n
URL:http://rclco2024.lvdev.net/event/uli-midsummer-retreat/
LOCATION:4000 Coronado Bay Rd\, Coronado\, CA 92118\, Coronado\, California\, United States
CATEGORIES:Moderator
END:VEVENT
END:VCALENDAR