BEGIN:VCALENDAR
VERSION:2.0
PRODID:-//RCLCO Real Estate Consulting - ECPv4.6.19//NONSGML v1.0//EN
CALSCALE:GREGORIAN
METHOD:PUBLISH
X-WR-CALNAME:RCLCO Real Estate Consulting
X-ORIGINAL-URL:http://rclco2024.lvdev.net
X-WR-CALDESC:Events for RCLCO Real Estate Consulting
BEGIN:VEVENT
DTSTART;VALUE=DATE:20180605
DTEND;VALUE=DATE:20180606
DTSTAMP:20260423T184704
CREATED:20181108T214953Z
LAST-MODIFIED:20181112T153944Z
UID:5666-1528156800-1528243199@rclco2024.lvdev.net
SUMMARY:ULI Los Angeles
DESCRIPTION:Building on a fundamental understanding of the development process\, this course focuses on the skills and practices required to create value at each stage of a development project from conception through to implementation.  The course describes and demonstrates how to spot opportunities and then\, to create value.  It is structured on the principle that learning to make good decisions requires more than instruction; it requires interaction and practice. \nThe course engages participants in challenging case studies and interaction with other class members.  Participants work in teams on realistic case studies representing different stages of a real estate development project. The program addresses acquisition\, design\, market dynamics\, entitlement\, capital structure\, pro-forma modeling and development management\, providing practical experience at each stage\, and inspiring creative solutions to complex development problems. For each case study\, participants receive real-world data from which they produce a viable strategy to create value. \nProminent guest lecturers from the fields of finance\, market analysis\, entitlement\, construction\, architecture\, public sector\, and entrepreneurial development discuss the development process from their own perspectives in an interactive and collegial setting. \nThrough this hands-on approach\, participants are introduced to higher-level concepts and real-life complexities of the development process. They will view issues through multiple perspectives designed to help develop innovative and practical solutions that create project value. \n
URL:http://rclco2024.lvdev.net/event/uli-los-angeles/
LOCATION:4100 Admiralty Way\, Marina Del Rey\, CA 90292\, Marina Del Rey\, California\, United States
CATEGORIES:Speaker
END:VEVENT
END:VCALENDAR