BEGIN:VCALENDAR
VERSION:2.0
PRODID:-//RCLCO Real Estate Consulting - ECPv4.6.19//NONSGML v1.0//EN
CALSCALE:GREGORIAN
METHOD:PUBLISH
X-WR-CALNAME:RCLCO Real Estate Consulting
X-ORIGINAL-URL:http://rclco2024.lvdev.net
X-WR-CALDESC:Events for RCLCO Real Estate Consulting
BEGIN:VEVENT
DTSTART;TZID=UTC+0:20150113T075000
DTEND;TZID=UTC+0:20150113T081000
DTSTAMP:20260423T224512
CREATED:20181108T214622Z
LAST-MODIFIED:20181112T161632Z
UID:5495-1421135400-1421136600@rclco2024.lvdev.net
SUMMARY:UCLA Recruiting Session
DESCRIPTION:Open to all UCLA Luskin Students and alumni\, and those interested in learning about RCLCO and real estate. \n
URL:http://rclco2024.lvdev.net/event/ucla-recruiting-session/
LOCATION:Public Affairs Building\, Room 3343\, Los Angeles\, United States
CATEGORIES:recruiting
END:VEVENT
END:VCALENDAR