BEGIN:VCALENDAR
VERSION:2.0
PRODID:-//RCLCO Real Estate Consulting - ECPv4.6.19//NONSGML v1.0//EN
CALSCALE:GREGORIAN
METHOD:PUBLISH
X-WR-CALNAME:RCLCO Real Estate Consulting
X-ORIGINAL-URL:http://rclco2024.lvdev.net
X-WR-CALDESC:Events for RCLCO Real Estate Consulting
BEGIN:VEVENT
DTSTART;TZID=UTC+0:20171110T090000
DTEND;TZID=UTC+0:20171110T100000
DTSTAMP:20260423T173216
CREATED:20181108T214903Z
LAST-MODIFIED:20181112T154606Z
UID:5630-1510304400-1510308000@rclco2024.lvdev.net
SUMMARY:UCLA Guest Lecture - ECON 106F
DESCRIPTION:RCLCO Principal & Director of Consulting\, Ben Maslan\, will deliver a guest lecture on November 10\, 2017 in Professor Patrick Convery’s Econ 106 Finance Class. \n
URL:http://rclco2024.lvdev.net/event/ucla-guest-lecture-econ-106f-3/
LOCATION:315 Portola Plaza\, Los Angeles\, CA 90095\, Los Angeles\, California\, United States
CATEGORIES:Speaker
END:VEVENT
END:VCALENDAR