BEGIN:VCALENDAR
VERSION:2.0
PRODID:-//RCLCO Real Estate Consulting - ECPv4.6.19//NONSGML v1.0//EN
CALSCALE:GREGORIAN
METHOD:PUBLISH
X-WR-CALNAME:RCLCO Real Estate Consulting
X-ORIGINAL-URL:http://rclco2024.lvdev.net
X-WR-CALDESC:Events for RCLCO Real Estate Consulting
BEGIN:VEVENT
DTSTART;TZID=UTC+0:20170512T082000
DTEND;TZID=UTC+0:20170512T084000
DTSTAMP:20260423T161029
CREATED:20181108T214815Z
LAST-MODIFIED:20181112T155221Z
UID:5593-1494577200-1494578400@rclco2024.lvdev.net
SUMMARY:UCLA Guest Lecture - ECON 106F
DESCRIPTION:RCLCO Managing Director\, Taylor Mammen\, will deliver a guest lecture on May 12\, 2017 in Professor Patrick Convery’s Econ 106 Finance Class. \n
URL:http://rclco2024.lvdev.net/event/ucla-guest-lecture-econ-106f-2/
LOCATION:11282 Portola Plaza\, Los Angeles\, CA 90095\, Los Angeles\, California\, United States
CATEGORIES:Speaker
END:VEVENT
END:VCALENDAR