BEGIN:VCALENDAR
VERSION:2.0
PRODID:-//RCLCO Real Estate Consulting - ECPv4.6.19//NONSGML v1.0//EN
CALSCALE:GREGORIAN
METHOD:PUBLISH
X-WR-CALNAME:RCLCO Real Estate Consulting
X-ORIGINAL-URL:http://rclco2024.lvdev.net
X-WR-CALDESC:Events for RCLCO Real Estate Consulting
BEGIN:VEVENT
DTSTART;TZID=UTC+0:20150129T100000
DTEND;TZID=UTC+0:20150129T112000
DTSTAMP:20260423T175516
CREATED:20181108T214625Z
LAST-MODIFIED:20181112T161608Z
UID:5500-1422525600-1422530400@rclco2024.lvdev.net
SUMMARY:The University of Texas at Austin McCombs School of Business
DESCRIPTION:The TEXAS Real Estate Finance & Investment Center (REFIC) will provide light appetizers and drinks. Come learn about RCLCO and what we do. \n
URL:http://rclco2024.lvdev.net/event/the-university-of-texas-at-austin-mccombs-school-of-business/
LOCATION:Atrium\, CBA 3.300; 2110 Speedway; Austin\, Texas 78705\, Austin\, Texas\, United States
CATEGORIES:recruiting
END:VEVENT
END:VCALENDAR