BEGIN:VCALENDAR
VERSION:2.0
PRODID:-//RCLCO Real Estate Consulting - ECPv4.6.19//NONSGML v1.0//EN
CALSCALE:GREGORIAN
METHOD:PUBLISH
X-WR-CALNAME:RCLCO Real Estate Consulting
X-ORIGINAL-URL:http://rclco2024.lvdev.net
X-WR-CALDESC:Events for RCLCO Real Estate Consulting
BEGIN:VEVENT
DTSTART;TZID=UTC+0:20151209T045000
DTEND;TZID=UTC+0:20151209T061000
DTSTAMP:20260423T175416
CREATED:20181108T214651Z
LAST-MODIFIED:20181112T161059Z
UID:5525-1449636600-1449641400@rclco2024.lvdev.net
SUMMARY:The Suburban/Urban Exchange: How suburban and urban built environments are shaping each other
DESCRIPTION:With “big box” stores anchoring mixed-use projects in the District and walkable town centers enlivening the suburbs\, trends in retail and residential development are changing across the Metro area. “Urban living” is no longer at odds with the notion of the suburbs and developers are increasingly looking to create denser\, more amenitized mixed-use centers. At the same time\, cities are attracting new residents\, retail and cultural amenities\, and welcoming traditional suburban uses\, including “big-box” retailers. What market forces are shaping these new trends in mixed-use\, retail\, and residential growth? What can urban and suburban developers learn from each other to be ready for these new trends? \nPlease join ULI Washington for an informative panel discussion on the evolving relationship between cities and their suburbs and how demographics and retail and residential trendsetters are shaping the future of DC and suburban communities across the DC Metro area. \nPANELISTS \n\nModerator: Erin Talkington\, Vice President\, RCLCO\nDave Ward\, President /Principal\, H&R Retail\nAsheel Shah\, Senior Vice President for Real Estate Investments\, Kettler\nBerkeley Shervin\, President and Chief Operating Officer\, The Wilkes Company\n\n
URL:http://rclco2024.lvdev.net/event/the-suburban-urban-exchange-how-suburban-and-urban-built-environments-are-shaping-each-other/
LOCATION:2020 K Street\, NW\, Washington\, D.C.\, 20006\, Washington\, D.C.\, United States
END:VEVENT
END:VCALENDAR