BEGIN:VCALENDAR
VERSION:2.0
PRODID:-//RCLCO Real Estate Consulting - ECPv4.6.19//NONSGML v1.0//EN
CALSCALE:GREGORIAN
METHOD:PUBLISH
X-WR-CALNAME:RCLCO Real Estate Consulting
X-ORIGINAL-URL:http://rclco2024.lvdev.net
X-WR-CALDESC:Events for RCLCO Real Estate Consulting
BEGIN:VEVENT
DTSTART;TZID=UTC+0:20141022T061000
DTEND;TZID=UTC+0:20141022T070000
DTSTAMP:20260423T062517
CREATED:20181108T214609Z
LAST-MODIFIED:20181112T162515Z
UID:5482-1413958200-1413961200@rclco2024.lvdev.net
SUMMARY:The Millennial Generation's Influence on Real Estate Demand
DESCRIPTION:The 6th Annual ULI Capital Markets Conference will bring together both providers and users of capital to explore key trends that are driving successful real estate investing today. If you are an owner\, a developer\, a lender\, or an investor\, this conference offers unique opportunities to make new connections\, source deals\, and gain insights into the latest finance and investment trends. \n
URL:http://rclco2024.lvdev.net/event/the-millennial-generations-influence-on-real-estate-demand/
LOCATION:One Sanctuary Beach Dr.\, Kiawah Island\, SC 29455\, Kiawah Island\, South Carolina\, United States
END:VEVENT
END:VCALENDAR