BEGIN:VCALENDAR
VERSION:2.0
PRODID:-//RCLCO Real Estate Consulting - ECPv4.6.19//NONSGML v1.0//EN
CALSCALE:GREGORIAN
METHOD:PUBLISH
X-WR-CALNAME:RCLCO Real Estate Consulting
X-ORIGINAL-URL:http://rclco2024.lvdev.net
X-WR-CALDESC:Events for RCLCO Real Estate Consulting
BEGIN:VEVENT
DTSTART;TZID=UTC+0:20140403T052000
DTEND;TZID=UTC+0:20140403T112000
DTSTAMP:20260422T004426
CREATED:20181108T214553Z
LAST-MODIFIED:20181112T162737Z
UID:5467-1396502400-1396524000@rclco2024.lvdev.net
SUMMARY:The Macro View on Micro Units\, Preliminary Findings
DESCRIPTION:Charles Hewlett participates in ULI Grant Team presentation at Multi-Family Gold Council. \n
URL:http://rclco2024.lvdev.net/event/the-macro-view-on-micro-units-preliminary-findings/
LOCATION:1055 Canada Place Vancouver\, BC V6C 0C3\, Vancouver\, British Columbia\, United States
END:VEVENT
END:VCALENDAR