BEGIN:VCALENDAR
VERSION:2.0
PRODID:-//RCLCO Real Estate Consulting - ECPv4.6.19//NONSGML v1.0//EN
CALSCALE:GREGORIAN
METHOD:PUBLISH
X-WR-CALNAME:RCLCO Real Estate Consulting
X-ORIGINAL-URL:http://rclco2024.lvdev.net
X-WR-CALDESC:Events for RCLCO Real Estate Consulting
BEGIN:VEVENT
DTSTART;TZID=UTC+0:20141023T063000
DTEND;TZID=UTC+0:20141023T072000
DTSTAMP:20260423T105437
CREATED:20181108T214618Z
LAST-MODIFIED:20181112T161716Z
UID:5489-1414045800-1414048800@rclco2024.lvdev.net
SUMMARY:The Macro View of Micro Apartments
DESCRIPTION:Micro Unit Grant Team Presentation \n
URL:http://rclco2024.lvdev.net/event/the-macro-view-of-micro-apartments/
LOCATION:655 W 34th St\, New York\, NY 10001\, New York\, New York\, United States
END:VEVENT
END:VCALENDAR