BEGIN:VCALENDAR
VERSION:2.0
PRODID:-//RCLCO Real Estate Consulting - ECPv4.6.19//NONSGML v1.0//EN
CALSCALE:GREGORIAN
METHOD:PUBLISH
X-WR-CALNAME:RCLCO Real Estate Consulting
X-ORIGINAL-URL:http://rclco2024.lvdev.net
X-WR-CALDESC:Events for RCLCO Real Estate Consulting
BEGIN:VEVENT
DTSTART;TZID=UTC+0:20140410T063000
DTEND;TZID=UTC+0:20140410T072000
DTSTAMP:20260422T052231
CREATED:20181108T214556Z
LAST-MODIFIED:20181112T162725Z
UID:5469-1397111400-1397114400@rclco2024.lvdev.net
SUMMARY:The Global City and What it Means for Real Estate
DESCRIPTION:The Spring Meeting in Canada isn’t the only implication of the North American perspective on real estate globalizing. These panelists look around the corner in terms of the impact of globalization from the perspective of demographics\, capital markets and design. \n
URL:http://rclco2024.lvdev.net/event/the-global-city-and-what-it-means-for-real-estate/
LOCATION:1055 Canada Place Vancouver\, BC V6C 0C3\, Vancouver\, British Columbia\, United States
END:VEVENT
END:VCALENDAR