BEGIN:VCALENDAR
VERSION:2.0
PRODID:-//RCLCO Real Estate Consulting - ECPv4.6.19//NONSGML v1.0//EN
CALSCALE:GREGORIAN
METHOD:PUBLISH
X-WR-CALNAME:RCLCO Real Estate Consulting
X-ORIGINAL-URL:http://rclco2024.lvdev.net
X-WR-CALDESC:Events for RCLCO Real Estate Consulting
BEGIN:VEVENT
DTSTART;TZID=UTC+0:20150615T103000
DTEND;TZID=UTC+0:20150615T105000
DTSTAMP:20260423T213030
CREATED:20181108T214634Z
LAST-MODIFIED:20181112T161237Z
UID:5510-1434364200-1434365400@rclco2024.lvdev.net
SUMMARY:Technology Trends\, Demographics & The Impact on Real Estate
DESCRIPTION:Millennials with their 10 different portables devices and technological know-how and lifestyle are coming of age and into the workforce as baby boomers\, not exactly luddites\, are retiring. How is this changing different property types and real estate today and in the future and how should you be changing your real estate investment strategy to cater to both these key demographies?\n\n• Going downtown… With both millennials and baby boomers wanting to be in the city is paying a 3 cap worth it?\n• Transit-oriented developments\n• More baby boomers… Is there enough senior housing?\n• What are we going to do with the land for residential development 1 hour away from the city? Will driverless cars help?\n• Supply/Demand of senior housing and medical office sectors\n• What happens when the millennials grow up?\n• Crowdfunding… What will be the impact?\n• Retail & Office: Will the dislocation continue?\n• Tech and the data center play \n Panel Participants:\nHoward Barash\, Principal\, Cohnreznick LLP\nOscar Vasquez\, Chief Operating Officer\, Encore Capital Management\nHoward Fields\, Senior Vice President\, Inland Institutional Capital Partners\nBill Maher\, Head of Research & Strategy for North America\, LaSalle Investment Management\nAdam Ducker\, Managing Director\, RCLCO\nFrank J. Small\, Principal\, Silverstone Health Care Real Estate LLC \n
URL:http://rclco2024.lvdev.net/event/technology-trends-demographics-the-impact-on-real-estate/
LOCATION:Park Avenue at Grand Central Station\, New York\, NY 10017\, New York\, New York\, United States
CATEGORIES:Panelist
END:VEVENT
END:VCALENDAR