BEGIN:VCALENDAR
VERSION:2.0
PRODID:-//RCLCO Real Estate Consulting - ECPv4.6.19//NONSGML v1.0//EN
CALSCALE:GREGORIAN
METHOD:PUBLISH
X-WR-CALNAME:RCLCO Real Estate Consulting
X-ORIGINAL-URL:http://rclco2024.lvdev.net
X-WR-CALDESC:Events for RCLCO Real Estate Consulting
BEGIN:VEVENT
DTSTART;TZID=UTC+0:20140721T091000
DTEND;TZID=UTC+0:20140721T100000
DTSTAMP:20260422T200025
CREATED:20181108T214604Z
LAST-MODIFIED:20181112T162552Z
UID:5477-1405933800-1405936800@rclco2024.lvdev.net
SUMMARY:Senior Housing - Changing Delivery
DESCRIPTION:Learn from three experts describing the demand for adequate senior housing\, both from a health and demographic perspective. Explore the relationship between the provision of senior housing and the changing delivery of health care. Be part of the discussion of how new urbanist projects can incorporate senior housing. \n
URL:http://rclco2024.lvdev.net/event/senior-housing-changing-delivery/
LOCATION:146 W. Plant Street Winter Garden\, FL 34787\, Winter Garden\, Florida\, United States
END:VEVENT
END:VCALENDAR