BEGIN:VCALENDAR
VERSION:2.0
PRODID:-//RCLCO Real Estate Consulting - ECPv4.6.19//NONSGML v1.0//EN
CALSCALE:GREGORIAN
METHOD:PUBLISH
X-WR-CALNAME:RCLCO Real Estate Consulting
X-ORIGINAL-URL:http://rclco2024.lvdev.net
X-WR-CALDESC:Events for RCLCO Real Estate Consulting
BEGIN:VEVENT
DTSTART;TZID=UTC+0:20140423T061000
DTEND;TZID=UTC+0:20140423T072000
DTSTAMP:20260422T082944
CREATED:20181108T214558Z
LAST-MODIFIED:20181112T162702Z
UID:5471-1398233400-1398237600@rclco2024.lvdev.net
SUMMARY:Role of Market Analysis\, Retail Center Development
DESCRIPTION:Bob Gardner to guest lecture. \n
URL:http://rclco2024.lvdev.net/event/role-of-market-analysis-retail-center-development/
LOCATION:Haines Hall A25\, 375 Portola Plaza\, Los Angeles\, CA 90095\, Los Angeles\, California\, United States
END:VEVENT
END:VCALENDAR