BEGIN:VCALENDAR
VERSION:2.0
PRODID:-//RCLCO Real Estate Consulting - ECPv4.6.19//NONSGML v1.0//EN
CALSCALE:GREGORIAN
METHOD:PUBLISH
X-WR-CALNAME:RCLCO Real Estate Consulting
X-ORIGINAL-URL:http://rclco2024.lvdev.net
X-WR-CALDESC:Events for RCLCO Real Estate Consulting
BEGIN:VEVENT
DTSTART;TZID=UTC+0:20141022T051000
DTEND;TZID=UTC+0:20141022T061000
DTSTAMP:20260423T050158
CREATED:20181108T214614Z
LAST-MODIFIED:20181112T162433Z
UID:5486-1413954600-1413958200@rclco2024.lvdev.net
SUMMARY:Retail Location and Transit: An Econometric Examination of Retail Location in Prince George's and Montgomery Counties\, Maryland
DESCRIPTION:The National Center for Smart Growth at the University of Maryland\, the LABEX consortium of research universities in Paris\, France\, and several other cosponsors are pleased to announce a bi-national symposium on Transit\, Transit-Oriented Development\, and Urban Form. The purpose of the symposium is to exchange ideas and share information on sustainable transportation and urban development strategies in two prominent national-capital cities: Washington DC\, and Paris\, France. \n
URL:http://rclco2024.lvdev.net/event/retail-location-and-transit-an-econometric-examination-of-retail-location-in-prince-georges-and-montgomery-counties-maryland/
LOCATION:One Veterans Place\, Silver Spring\, MD 20910\, Silver Spring\, MD\, United States
END:VEVENT
END:VCALENDAR