BEGIN:VCALENDAR
VERSION:2.0
PRODID:-//RCLCO Real Estate Consulting - ECPv4.6.19//NONSGML v1.0//EN
CALSCALE:GREGORIAN
METHOD:PUBLISH
X-WR-CALNAME:RCLCO Real Estate Consulting
X-ORIGINAL-URL:http://rclco2024.lvdev.net
X-WR-CALDESC:Events for RCLCO Real Estate Consulting
BEGIN:VEVENT
DTSTART;TZID=UTC+0:20140115T060000
DTEND;TZID=UTC+0:20140115T072000
DTSTAMP:20260421T102347
CREATED:20181108T214541Z
LAST-MODIFIED:20181112T163203Z
UID:5456-1389765600-1389770400@rclco2024.lvdev.net
SUMMARY:Reshaping and Reinventing Central Florida
DESCRIPTION:According to Dr. Nelson\, nearly half the buildings that will be standing in 2030 do not exist today. That means we have a tremendous opportunity to reinvent our urban areas\, making them more sustainable and livable for future generations. But for this vision to become reality\, Central Florida leaders need reliable data about emerging trends and smart projections. \n
URL:http://rclco2024.lvdev.net/event/reshaping-and-reinventing-central-florida/
LOCATION:36 West Pine Street Orlando\, FL 32801\, Orlando\, Florida\, United States
END:VEVENT
END:VCALENDAR