BEGIN:VCALENDAR
VERSION:2.0
PRODID:-//RCLCO Real Estate Consulting - ECPv4.6.19//NONSGML v1.0//EN
CALSCALE:GREGORIAN
METHOD:PUBLISH
X-WR-CALNAME:RCLCO Real Estate Consulting
X-ORIGINAL-URL:http://rclco2024.lvdev.net
X-WR-CALDESC:Events for RCLCO Real Estate Consulting
BEGIN:VEVENT
DTSTART;TZID=UTC+0:20150917T100000
DTEND;TZID=UTC+0:20150917T102000
DTSTAMP:20260423T230005
CREATED:20181108T214647Z
LAST-MODIFIED:20181112T161116Z
UID:5522-1442484000-1442485200@rclco2024.lvdev.net
SUMMARY:Repositioning of Retail Real Estate
DESCRIPTION:This interactive session will explore ways retailers and property owners are collaborating to repurpose brick and mortar space into more sustainable environments. Learn about the creative solutions companies are employing to not only enhance the attractiveness of the physical space\, but also optimize the operational procedures that ultimately promote a greater environmentally responsible business. \nSpeaker(s):  \n\nAlan Shaw\, Vice President\, Real Estate Leasing & Development\, Sears Holdings Corporation\nJeffrey Bedell\, Vice President\, Sustainability\, The Macerich Company\nLee Sobel\, Director\, Public Strategies\, RCLCO\n\n
URL:http://rclco2024.lvdev.net/event/repositioning-of-retail-real-estate/
LOCATION:110 E 2nd St\, Austin\, TX 78701\, Austin\, Texas\, United States
END:VEVENT
END:VCALENDAR