BEGIN:VCALENDAR
VERSION:2.0
PRODID:-//RCLCO Real Estate Consulting - ECPv4.6.19//NONSGML v1.0//EN
CALSCALE:GREGORIAN
METHOD:PUBLISH
X-WR-CALNAME:RCLCO Real Estate Consulting
X-ORIGINAL-URL:http://rclco2024.lvdev.net
X-WR-CALDESC:Events for RCLCO Real Estate Consulting
BEGIN:VEVENT
DTSTART;VALUE=DATE:20170327
DTEND;VALUE=DATE:20170328
DTSTAMP:20260423T160303
CREATED:20181108T214812Z
LAST-MODIFIED:20181112T155235Z
UID:5591-1490572800-1490659199@rclco2024.lvdev.net
SUMMARY:REIT School
DESCRIPTION:REIT School™: Analyst Training in Real Estate Investment Trusts provides a comprehensive introduction to the sector through lectures\, group discussions and case studies led by a diverse slate of active practitioners\, with a unique opportunity to network with attendees from across the spectrum of REITs and REIT finance. \nIn the nearly two decades since the first REIT School™\, we have covered everything from the nuts and bolts of Net Asset Value to the influence of the “REIT Mafia” on capital flows and REIT valuation. In addition to perennial sessions covering real estate finance\, property analysis and a capstone valuation case study\, topics include: \nTopics include: \n\nReal estate market cycles\, the state of the sector and the competitive and strategic issues going forward\nThe sources of financial data necessary for evaluating a REIT’s economic health and risk-return profile\nHow fixed income analysts look at REITs and the qualitative factors\, quantitative measures and benchmarks underlying REIT credit analysis\nStrategies for accessing the capital markets and managing capital\nMethods of evaluating acquisitions and dispositions at the property and corporate levels\nIssues surrounding REIT M&A\nMethodologies for valuing companies and structuring deals\n\n  \nWhat you’ll gain: \n\n\nA comprehensive picture of the REIT sector and an understanding of a company’s position within it.\nAn enhanced ability to communicate with professionals working on Wall Street or within REITs.\nAn introduction to proven methodologies for evaluating REITs as targets\, investments or competitors.\nAn understanding of options for accessing capital and their effects on the balance sheet.\nImproved analysis and forecasting techniques through an understanding of the impact of leverage levels\, re-equitization and transactions at both the property and corporate levels.\nKnowledge of the multiple approaches to valuation in the sector.\n\nPrerequisites: \n\nThis program presumes familiarity with basic accounting and corporate finance concepts as well as a basic understanding of the REIT financial structure. Prior to the program\, participants will receive materials for the Investing in REITs case study as well as suggested reading for those new to the sector.\n\n\n
URL:http://rclco2024.lvdev.net/event/reit-school/
LOCATION:450 N Cityfront Plaza Dr\, Chicago\, IL\, US\, Chicago\, Illinois\, United States
CATEGORIES:Speaker
END:VEVENT
END:VCALENDAR