BEGIN:VCALENDAR
VERSION:2.0
PRODID:-//RCLCO Real Estate Consulting - ECPv4.6.19//NONSGML v1.0//EN
CALSCALE:GREGORIAN
METHOD:PUBLISH
X-WR-CALNAME:RCLCO Real Estate Consulting
X-ORIGINAL-URL:http://rclco2024.lvdev.net
X-WR-CALDESC:Events for RCLCO Real Estate Consulting
BEGIN:VEVENT
DTSTART;TZID=UTC+0:20180905T072000
DTEND;TZID=UTC+0:20180905T102000
DTSTAMP:20260423T205855
CREATED:20181108T215013Z
LAST-MODIFIED:20181108T215208Z
UID:5680-1536132000-1536142800@rclco2024.lvdev.net
SUMMARY:RCLCO & Populous Collaborative Workshop: The Next Great Place
DESCRIPTION:Note: This event is invitation-only\nPopulous and RCLCO Real Estate Advisors are facilitating an exclusive invitation-only workshop to start a dialogue about the future of sports-anchored mixed-use developments. Join team and league senior executives\, as well as other seasoned mixed-use developers for a closed door discussion about the evolving interface between real estate and sports – what is a sports district\, how do they work\, how are they financed\, and what is the reward for doing so. \n
URL:http://rclco2024.lvdev.net/event/rclco-populous-collaborative-workshop-the-next-great-place-3/
LOCATION:Los Angeles\, California\, United States
CATEGORIES:Moderator,Organizer,Panelist
END:VEVENT
END:VCALENDAR