BEGIN:VCALENDAR
VERSION:2.0
PRODID:-//RCLCO Real Estate Consulting - ECPv4.6.19//NONSGML v1.0//EN
CALSCALE:GREGORIAN
METHOD:PUBLISH
X-WR-CALNAME:RCLCO Real Estate Consulting
X-ORIGINAL-URL:http://rclco2024.lvdev.net
X-WR-CALDESC:Events for RCLCO Real Estate Consulting
BEGIN:VEVENT
DTSTART;TZID=UTC+0:20180515T052000
DTEND;TZID=UTC+0:20180515T054000
DTSTAMP:20260423T235057
CREATED:20181108T214957Z
LAST-MODIFIED:20181112T153818Z
UID:5669-1526361600-1526362800@rclco2024.lvdev.net
SUMMARY:RCLCO Breakfast Series
DESCRIPTION:Join RCLCO Managing Director Adam Ducker for a presentation on new housing trends in Hampton Roads. \nThis event is part of RCLCO’s ongoing series of breakfast presentations. \nCo-hosted with Hanbury \nPlease RSVP to Ann Geary at ageary@rclco.com \nSEATS ARE FILLING UP FAST – RSVP NOW\n  \n
URL:http://rclco2024.lvdev.net/event/rclco-breakfast-series-3/
LOCATION:120 Atlantic Street\, Suite 100\, Norfolk\, VA 23510\, Norfolk\, Virginia\, United States
CATEGORIES:Organizer,Speaker
END:VEVENT
END:VCALENDAR