BEGIN:VCALENDAR
VERSION:2.0
PRODID:-//RCLCO Real Estate Consulting - ECPv4.6.19//NONSGML v1.0//EN
CALSCALE:GREGORIAN
METHOD:PUBLISH
X-WR-CALNAME:RCLCO Real Estate Consulting
X-ORIGINAL-URL:http://rclco2024.lvdev.net
X-WR-CALDESC:Events for RCLCO Real Estate Consulting
BEGIN:VEVENT
DTSTART;TZID=UTC+0:20150311T003900
DTEND;TZID=UTC+0:20150311T102000
DTSTAMP:20260423T224958
CREATED:20181108T214618Z
LAST-MODIFIED:20181112T161710Z
UID:5491-1426034340-1426069200@rclco2024.lvdev.net
SUMMARY:RCLCO 4th National Master-Planned Community University
DESCRIPTION:Planning for Current and Future Success\nThe Master-Planned Community and Active Adult Community world is changing. We will examine how economic\, demographic\, and consumer trends are impacting the community development business\, and how developers\, land owners\, investors\, and builders are responding to position their communities for near- and long-term success. Come hear the best minds in development\, home-building\, and finance discuss critical success factors for the future\, and provide your input to the discussion.\n \nRCLCO Leadership:\n \nGadi Kaufmann\, Managing Director/CEO\nGregg Logan\, Managing Director\nTodd LaRue\, Managing Director\nTaylor Mammen\, Managing Director and Director of Consulting\nMelina Duggal\, Senior Principal\n\n\nTo register\, please click here.\nTo book your hotel\, please click here. \n\n \n
URL:http://rclco2024.lvdev.net/event/rclco-4th-national-master-planned-community-university/
LOCATION:900 Newport Center Drive\, Newport Beach\, CA 92660\, Newport Beach\, California\, United States
END:VEVENT
END:VCALENDAR