BEGIN:VCALENDAR
VERSION:2.0
PRODID:-//RCLCO Real Estate Consulting - ECPv4.6.19//NONSGML v1.0//EN
CALSCALE:GREGORIAN
METHOD:PUBLISH
X-WR-CALNAME:RCLCO Real Estate Consulting
X-ORIGINAL-URL:http://rclco2024.lvdev.net
X-WR-CALDESC:Events for RCLCO Real Estate Consulting
BEGIN:VEVENT
DTSTART;TZID=UTC+0:20171117T051000
DTEND;TZID=UTC+0:20171117T070000
DTSTAMP:20260423T184626
CREATED:20181108T214905Z
LAST-MODIFIED:20181112T154619Z
UID:5632-1510895400-1510902000@rclco2024.lvdev.net
SUMMARY:PREA 2017 Leadership Summit
DESCRIPTION:Private session; by invitation only \n
URL:http://rclco2024.lvdev.net/event/prea-2017-leadership-summit/
LOCATION:15 West 43rd Street\, New York\, NY\, New York\, New York\, United States
CATEGORIES:Speaker
END:VEVENT
END:VCALENDAR