BEGIN:VCALENDAR
VERSION:2.0
PRODID:-//RCLCO Real Estate Consulting - ECPv4.6.19//NONSGML v1.0//EN
CALSCALE:GREGORIAN
METHOD:PUBLISH
X-WR-CALNAME:RCLCO Real Estate Consulting
X-ORIGINAL-URL:http://rclco2024.lvdev.net
X-WR-CALDESC:Events for RCLCO Real Estate Consulting
BEGIN:VEVENT
DTSTART;TZID=UTC+0:20170509T084000
DTEND;TZID=UTC+0:20170509T090000
DTSTAMP:20260423T200421
CREATED:20181108T214818Z
LAST-MODIFIED:20181112T155201Z
UID:5596-1494319200-1494320400@rclco2024.lvdev.net
SUMMARY:National Real Estate Investor (NREI) Webinar
DESCRIPTION:\nSummary\nAs the queue of capital continues to build and the opportunities for finding yield or creating values continues to dwindle\, investors in real assets may consider contrarian\, unfashionable\, difficult to underwrite or slightly esoteric asset types\, investment\, markets and positioning strategies. The challenge\, of course\, is pricing the risk in this approach and understanding where you are getting paid for avoiding the herd mentality and where you are taking long bets with uncertain payoff. \nIn this webinar RCLCO will present our framework for identifying and processing this investment perspective\, guidance on the underwriting approach\, case studies of where this approach has paid off and where it has disappointed and why. \nWe will share: \n\nWhat macro drivers of how American’s live\, work\, learn and play are changing and how that creates value in real estate\nPractical tools for projecting revenue\, growth\, cap rate movement and liquidity for new products or sub-asset classes\nStructuring techniques that work against conventional wisdom and create upside\nSpecific investment opportunities presented at this time in the cycle\nA discussion of asset management requirements arising from this investment style\nA discussion of the impact of the real estate cycle on contrarian real estate investing\n\n\n\n\nSpeakers\n\n\n\n\nAdam Ducker\nManaging Director/Director of Urban Real Estate\nRCLCO\n\n\nAdam Ducker has been with RCLCO since the mid-1990s\, based out of the Washington\, DC office. He is a recognized expert in investment analysis and the underwriting of real assets\, with experience leading teams in evaluating complex investments\, development and repositioning efforts across the United States and on nearly every continent. Adam has expertise in high-density housing\, retail/entertainment\, hospitality and mixed-use product types\, and leads the firm’s Urban Real Estate Advisory Group. \nAdam is a frequent speaker on topics ranging from place making to urban redevelopment to retail trends to in-town housing. His writing has been widely published and quoted in publications such as The New York Times\, The Wall Street Journal\, Urban Land\, California Real Estate Journal\, Multifamily Executive\, Resort and Recreation\, and National Hotel Executive. He is also an active member of the Urban Land Institute (ULI) and Programs vice chair of the Mixed-Use Development Council (Purple). A native of the New York metropolitan area\, Adam received Bachelor’s and Master’s degrees from Columbia University. \n\n\n\n\n\nTaylor Mammen\nManaging Director/Director of Institutional Advisory Services\nRCLCO\n\n\nTaylor Mammen is a Managing Director based out of RCLCO’s Los Angeles office. Since joining RCLCO in 2006\, Taylor has directed and managed consulting engagements in each of the RCLCO’s advisory groups\, across a wide range of geographies. Taylor currently manages Institutional Advisory Services within the firm\, including directing all investment and asset management activities for our institutional investor clients. He also serves on RCLCO’s Executive Committee\, with responsibility for implementing firm strategy. \nTaylor previously worked for the Boston Redevelopment Authority and for a government relations firm in Washington\, DC. He received a Master’s in City Planning from Massachusetts Institute of Technology and a Bachelor of Arts in Political Science from Brigham Young University. He is an active member of the Pension Real Estate Association and the Urban Land Institute\, serving on ULI Los Angeles’ Advisory Board and the Community Development Council (CDC-Blue). \n\n\n\n\n
URL:http://rclco2024.lvdev.net/event/national-real-estate-investor-nrei-webinar/
CATEGORIES:Speaker
END:VEVENT
END:VCALENDAR