BEGIN:VCALENDAR
VERSION:2.0
PRODID:-//RCLCO Real Estate Consulting - ECPv4.6.19//NONSGML v1.0//EN
CALSCALE:GREGORIAN
METHOD:PUBLISH
X-WR-CALNAME:RCLCO Real Estate Consulting
X-ORIGINAL-URL:http://rclco2024.lvdev.net
X-WR-CALDESC:Events for RCLCO Real Estate Consulting
BEGIN:VEVENT
DTSTART;TZID=UTC+0:20170605T100000
DTEND;TZID=UTC+0:20170605T102000
DTSTAMP:20260423T150303
CREATED:20181108T214825Z
LAST-MODIFIED:20181112T155135Z
UID:5602-1496656800-1496658000@rclco2024.lvdev.net
SUMMARY:Maturation of the REIT Market: Mortgage REIT Focus
DESCRIPTION:Moderator:\nMerrie Frankel\, President\, Minerva Realty Consultants \nPanelist:\nMichael Grupe\, EVP-Research & Investor Outreach\, NAREIT \n
URL:http://rclco2024.lvdev.net/event/maturation-of-the-reit-market-mortgage-reit-focus/
LOCATION:1335 6th Ave\, New York\, NY 10019\, New York City\, New York\, United States
END:VEVENT
END:VCALENDAR