BEGIN:VCALENDAR
VERSION:2.0
PRODID:-//RCLCO Real Estate Consulting - ECPv4.6.19//NONSGML v1.0//EN
CALSCALE:GREGORIAN
METHOD:PUBLISH
X-WR-CALNAME:RCLCO Real Estate Consulting
X-ORIGINAL-URL:http://rclco2024.lvdev.net
X-WR-CALDESC:Events for RCLCO Real Estate Consulting
BEGIN:VEVENT
DTSTART;TZID=UTC+0:20151014T091000
DTEND;TZID=UTC+0:20151014T093000
DTSTAMP:20260423T212821
CREATED:20181108T214646Z
LAST-MODIFIED:20181112T161123Z
UID:5521-1444813800-1444815000@rclco2024.lvdev.net
SUMMARY:Master Planned Communities & Mixed-Use Projects… How Can You Make a Long-Term Project Work under Private Equity’s Shorter-Term Time Horizon
DESCRIPTION:Topics \n\nThe initial planning… What is different about 2015?\nThe infrastructure part…\nThe latest amenities\nBest practices… Making sure the first owner is also the last\nMatching up phases and components with different financing structures\nThe commercial development part\nThe urban community\nJoint venture structures\nFeasibility & appraisals\nDe-risking best practices\nShort-term funds/Long-term project… Fund life issues\n\nPanelists \n\nTodd LaRue\, Managing Director\nJeff Handlin\, President\, Oread Capital & Development\nRex Jensen\, President & CEO\, Schroeder-Manatee Ranch\, Inc\nFred Cooper\, Vice President of Finance International Development and Investor Relations\, Toll Brothers\, Inc.\n\n
URL:http://rclco2024.lvdev.net/event/master-planned-communities-mixed-use-projects-how-can-you-make-a-long-term-project-work-under-private-equitys-shorter-term-time-horizon/
LOCATION:3960 Las Vegas Boulevard South Las Vegas\, NV 89119\, Las Vegas\, Nevada\, United States
END:VEVENT
END:VCALENDAR