BEGIN:VCALENDAR
VERSION:2.0
PRODID:-//RCLCO Real Estate Consulting - ECPv4.6.19//NONSGML v1.0//EN
CALSCALE:GREGORIAN
METHOD:PUBLISH
X-WR-CALNAME:RCLCO Real Estate Consulting
X-ORIGINAL-URL:http://rclco2024.lvdev.net
X-WR-CALDESC:Events for RCLCO Real Estate Consulting
BEGIN:VEVENT
DTSTART;VALUE=DATE:20150601
DTEND;VALUE=DATE:20150602
DTSTAMP:20260423T175324
CREATED:20181108T214635Z
LAST-MODIFIED:20181112T161228Z
UID:5511-1433116800-1433203199@rclco2024.lvdev.net
SUMMARY:Market Analysis for Real Estate Investment and Development
DESCRIPTION:Adam Ducker to guest lecture for the ULI Real Estate School \n
URL:http://rclco2024.lvdev.net/event/market-analysis-for-real-estate-investment-and-development/
LOCATION:10 Thomas Circle\, NW\, Washington\, DC 20005\, Washington\, D.C.\, United States
END:VEVENT
END:VCALENDAR