BEGIN:VCALENDAR
VERSION:2.0
PRODID:-//RCLCO Real Estate Consulting - ECPv4.6.19//NONSGML v1.0//EN
CALSCALE:GREGORIAN
METHOD:PUBLISH
X-WR-CALNAME:RCLCO Real Estate Consulting
X-ORIGINAL-URL:http://rclco2024.lvdev.net
X-WR-CALDESC:Events for RCLCO Real Estate Consulting
BEGIN:VEVENT
DTSTART;TZID=UTC+0:20140303T093000
DTEND;TZID=UTC+0:20140303T103000
DTSTAMP:20260421T173647
CREATED:20181108T214550Z
LAST-MODIFIED:20181112T162754Z
UID:5463-1393839000-1393842600@rclco2024.lvdev.net
SUMMARY:Macro View on Micro Units:  A National Review of an Emerging Trend
DESCRIPTION:AIA|DC and George Mason University’s Center for Real Estate Entrepreneurship are partnering to offer a special one-day conference where architecture\, real estate\, and finance experts will shed light on the theory\, practice\, and potential of micro-unit apartments in the DC metropolitan region. \n
URL:http://rclco2024.lvdev.net/event/macro-view-on-micro-units-a-national-review-of-an-emerging-trend/
LOCATION:421 7th Street NW Washington\, DC 20004\, Washington\, District of Columbia\, United States
END:VEVENT
END:VCALENDAR