BEGIN:VCALENDAR
VERSION:2.0
PRODID:-//RCLCO Real Estate Consulting - ECPv4.6.19//NONSGML v1.0//EN
CALSCALE:GREGORIAN
METHOD:PUBLISH
X-WR-CALNAME:RCLCO Real Estate Consulting
X-ORIGINAL-URL:http://rclco2024.lvdev.net
X-WR-CALDESC:Events for RCLCO Real Estate Consulting
BEGIN:VEVENT
DTSTART;TZID=UTC+0:20180620T075000
DTEND;TZID=UTC+0:20180620T081000
DTSTAMP:20260423T202259
CREATED:20181108T215005Z
LAST-MODIFIED:20181112T153630Z
UID:5675-1529481000-1529482200@rclco2024.lvdev.net
SUMMARY:IMN 15th Annual New York Non-Traded REIT & Retail Alternative Investment Symposium
DESCRIPTION:The retail alternative investment industry is undergoing a renaissance….. \nIMN’s 15th Annual New York Non-Traded REIT & Retail Alternative Investment Symposium\, the premier independent gathering of senior level broker dealers\, product sponsors\, registered investment advisors\, due diligence professionals\, law firms and more\, will be returning to the New York Marriott Downtown on June 20-21\, 2018 and will discuss all of the below developments and more… \nSales of Non-Traded REITs were up last year and predictions for 2018 are better still; interval fund launches are outpacing 2017 and this sector continues to experience robust growth; Regulation D offerings and 1031 exchanges are seeing a resurgence; the independent broker/dealer industry had a strong 2017 with revenue bouncing back after a tough 2016; RIAs and new product sponsors continue to enter this space with brand and non-brand names alike looking to tap into the vast opportunity that the retail alternative investment market offers. \nPanel topics will include:\n\nDaily vs. monthly\nReporting to the Board\nSEC policies\nCalculating NAV for NAV REITs vs. interval funds\n\n  \n
URL:http://rclco2024.lvdev.net/event/imn-15th-annual-new-york-non-traded-reit-retail-alternative-investment-symposium/
LOCATION:85 West Street at Albany Street\, New York\, NY 10006\, New York\, New York\, United States
CATEGORIES:Panelist
END:VEVENT
END:VCALENDAR