BEGIN:VCALENDAR
VERSION:2.0
PRODID:-//RCLCO Real Estate Consulting - ECPv4.6.19//NONSGML v1.0//EN
CALSCALE:GREGORIAN
METHOD:PUBLISH
X-WR-CALNAME:RCLCO Real Estate Consulting
X-ORIGINAL-URL:http://rclco2024.lvdev.net
X-WR-CALDESC:Events for RCLCO Real Estate Consulting
BEGIN:VEVENT
DTSTART;TZID=UTC+0:20170207T052000
DTEND;TZID=UTC+0:20170207T060000
DTSTAMP:20260423T175456
CREATED:20181108T214754Z
LAST-MODIFIED:20181112T155557Z
UID:5578-1486444800-1486447200@rclco2024.lvdev.net
SUMMARY:Housing in the Evolving American Suburb:  The Story of Atlanta
DESCRIPTION:ULI’s Terwilliger Center for Housing\, in partnership with RCLCO\, released an in-depth study covering the evolution of urban and suburban housing markets. Specifically\, it takes a fresh look at how we define urban verses suburban and the wide variety of housing characteristics and development opportunities. RCLCO’s report identifies 5 unique suburban markets ranging from Established High-End Suburbs to Greenfield Value Suburbs as well as macro-trends driving future suburban housing demand. \nJoin us Tuesday\, February 7th for an in depth presentation from the report authors — including a detailed analysis of the Atlanta market — followed by a star-studded panel discussion covering current trends\, market variances\, and changing consumer preferences. \n
URL:http://rclco2024.lvdev.net/event/housing-in-the-evolving-american-suburb-the-story-of-atlanta/
LOCATION:4000 Summit Boulevard\, Atlanta\, Georgia\, Atlanta\, Georgia\, United States
CATEGORIES:Panelist,Speaker
END:VEVENT
END:VCALENDAR