BEGIN:VCALENDAR
VERSION:2.0
PRODID:-//RCLCO Real Estate Consulting - ECPv4.6.19//NONSGML v1.0//EN
CALSCALE:GREGORIAN
METHOD:PUBLISH
X-WR-CALNAME:RCLCO Real Estate Consulting
X-ORIGINAL-URL:http://rclco2024.lvdev.net
X-WR-CALDESC:Events for RCLCO Real Estate Consulting
BEGIN:VEVENT
DTSTART;TZID=UTC+0:20170316T093000
DTEND;TZID=UTC+0:20170316T103000
DTSTAMP:20260423T145441
CREATED:20181108T214758Z
LAST-MODIFIED:20181112T155516Z
UID:5581-1489656600-1489660200@rclco2024.lvdev.net
SUMMARY:Crittenden Multifamily Conference
DESCRIPTION:Moderator: Melanie French – Cortland Partners\nHeather Riggs – Continental Properties\nJolita Southern – Cortland Partners\nAustin Alexander – Castle Lanterra Properties\nAdam Ducker – RCLCO \n
URL:http://rclco2024.lvdev.net/event/crittenden-multifamily-conference/
LOCATION:900 E Lookout Dr\, Richardson\, TX 75082\, Dallas\, Texas\, United States
CATEGORIES:Panelist,Speaker
END:VEVENT
END:VCALENDAR