BEGIN:VCALENDAR
VERSION:2.0
PRODID:-//RCLCO Real Estate Consulting - ECPv4.6.19//NONSGML v1.0//EN
CALSCALE:GREGORIAN
METHOD:PUBLISH
X-WR-CALNAME:RCLCO Real Estate Consulting
X-ORIGINAL-URL:http://rclco2024.lvdev.net
X-WR-CALDESC:Events for RCLCO Real Estate Consulting
BEGIN:VEVENT
DTSTART;VALUE=DATE:20180823
DTEND;VALUE=DATE:20180831
DTSTAMP:20260423T160236
CREATED:20180825T213708Z
LAST-MODIFIED:20181007T013942Z
UID:1543-1534982400-1535673599@rclco2024.lvdev.net
SUMMARY:CREW Washington DC
DESCRIPTION:Technology is bringing a new wave of growth and innovation to Commercial Real Estate. As the largest industry (CRE) and the fastest growing industry (Tech) collide\, how are systems\, process and entire businesses being disrupted? Join in the discussion and hear from owners\, designers\, and end users on how tech is disrupting their properties\, impacting their business models and how they’re planning for the future. This panel will focus on ways in which technology is being used to streamline processes and make tasks more efficient\, from development and construction\, to design and operations\, and everything in between. \n  \nPanelists Include: \nAdam Ducker\, Managing Director\, RCLCO (Moderator)\nTiffany Butcher\, Executive Vice President\, JBG Smith \nDarlene Pope\, Executive Vice President\, Managing Global Practice Lead\, JLL \nWilliam Hodges Hendrix\, AIA\, Workplace Global Leader\, Little Architects \n  \n \n  \n
URL:http://rclco2024.lvdev.net/event/crew-washington-dc/
ATTACH;FMTTYPE=image/png:http://rclco2024.lvdev.net/wp-content/uploads/2018/08/crew-logo.png
END:VEVENT
END:VCALENDAR