BEGIN:VCALENDAR
VERSION:2.0
PRODID:-//RCLCO Real Estate Consulting - ECPv4.6.19//NONSGML v1.0//EN
CALSCALE:GREGORIAN
METHOD:PUBLISH
X-WR-CALNAME:RCLCO Real Estate Consulting
X-ORIGINAL-URL:http://rclco2024.lvdev.net
X-WR-CALDESC:Events for RCLCO Real Estate Consulting
BEGIN:VEVENT
DTSTART;TZID=UTC+0:20140725T052000
DTEND;TZID=UTC+0:20140725T054000
DTSTAMP:20260422T212541
CREATED:20181108T214602Z
LAST-MODIFIED:20181112T162603Z
UID:5474-1406265600-1406266800@rclco2024.lvdev.net
SUMMARY:Creating “Win-Win:” How Businesses\, Developers\, and Governments Can Work Together to Expand Transportation Options
DESCRIPTION:This session investigates how employers\, developers\, and local governments can work together and with transportation entrepreneurs to expand mobility choices and connect the traveling public with job sites and community services. \n
URL:http://rclco2024.lvdev.net/event/creating-win-win-how-businesses-developers-and-governments-can-work-together-to-expand-transportation-options/
LOCATION:14th and K Street\, NW Washington\, DC 20005\, Washington\, District of Columbia\, United States
END:VEVENT
END:VCALENDAR