BEGIN:VCALENDAR
VERSION:2.0
PRODID:-//RCLCO Real Estate Consulting - ECPv4.6.19//NONSGML v1.0//EN
CALSCALE:GREGORIAN
METHOD:PUBLISH
X-WR-CALNAME:RCLCO Real Estate Consulting
X-ORIGINAL-URL:http://rclco2024.lvdev.net
X-WR-CALDESC:Events for RCLCO Real Estate Consulting
BEGIN:VEVENT
DTSTART;TZID=UTC+0:20140610T091000
DTEND;TZID=UTC+0:20140610T100000
DTSTAMP:20260422T170835
CREATED:20181108T214601Z
LAST-MODIFIED:20181112T162623Z
UID:5473-1402391400-1402394400@rclco2024.lvdev.net
SUMMARY:Commercial Corridor Revitalization
DESCRIPTION:This is a day-long opportunity for planners in the Baltimore and Washington regions to share their recent successes in a broad range of planning initiatives and to learn from others about their successes (and\, as important\, failures). \n
URL:http://rclco2024.lvdev.net/event/commercial-corridor-revitalization/
LOCATION:9421 Frederick Rd\, Ellicott City\, MD 21042\, Ellicott City\, Maryland\, United States
END:VEVENT
END:VCALENDAR