BEGIN:VCALENDAR
VERSION:2.0
PRODID:-//RCLCO Real Estate Consulting - ECPv4.6.19//NONSGML v1.0//EN
CALSCALE:GREGORIAN
METHOD:PUBLISH
X-WR-CALNAME:RCLCO Real Estate Consulting
X-ORIGINAL-URL:http://rclco2024.lvdev.net
X-WR-CALDESC:Events for RCLCO Real Estate Consulting
BEGIN:VEVENT
DTSTART;TZID=UTC+0:20141022T045000
DTEND;TZID=UTC+0:20141022T052000
DTSTAMP:20260423T032029
CREATED:20181108T214617Z
LAST-MODIFIED:20181112T161720Z
UID:5488-1413953400-1413955200@rclco2024.lvdev.net
SUMMARY:Best New Communities in 2014
DESCRIPTION:This interactive “real deals\, real numbers” session will feature three new MPCs that have recently been successfully launched. Cutting-edge developers will share details and numbers regarding design\, development\, amenities\, marketing\, financing\, and partnership strategies that led to their projects’ success. They will also address how they positioned their state-of-the-art MPCs vis-à-vis existing ones\, how they are differentiating their communities through the creation of an innovative “lifestyle\,” and how they are making money in the MPC development business in the post-recession era. \n
URL:http://rclco2024.lvdev.net/event/best-new-communities-in-2014/
LOCATION:655 W 34th St\, New York\, NY 10001\, New York\, New York\, United States
END:VEVENT
END:VCALENDAR