BEGIN:VCALENDAR
VERSION:2.0
PRODID:-//RCLCO Real Estate Consulting - ECPv4.6.19//NONSGML v1.0//EN
CALSCALE:GREGORIAN
METHOD:PUBLISH
X-WR-CALNAME:RCLCO Real Estate Consulting
X-ORIGINAL-URL:http://rclco2024.lvdev.net
X-WR-CALDESC:Events for RCLCO Real Estate Consulting
BEGIN:VEVENT
DTSTART;TZID=UTC+0:20150414T072000
DTEND;TZID=UTC+0:20150414T082000
DTSTAMP:20260423T163713
CREATED:20181108T214629Z
LAST-MODIFIED:20181112T161508Z
UID:5506-1428996000-1428999600@rclco2024.lvdev.net
SUMMARY:Assessing the Land/Homebuilding Investment Opportunities of Tomorrow: Changing Demographic\, Population\, and Technology Trends
DESCRIPTION:In this panel we discuss how changing demographics\, populations\, technology and overall paradigm shifts in the US are creating investment opportunities for land/homebuilding investors. From an ageing population to the Millennials to telecommuting and overall migration shifts\, we examine key patterns and trends\, the development/housing needs being created as a result and the real estate investment strategies that meet these needs. \nModerator\nPeter Martin\, Managing Director-Equity Research\, JMP Securities LLC \nPanelists\nMatthew Montgomery\, President\, Groundstone\, Inc.\nAimee Martin\, Managing Director\, Isles Ranch Partners\nScott Davis\, Regional Director\, Metrostudy\, A Hanley Wood Company\nGregg Logan\, Managing Director\, RCLCO \n
URL:http://rclco2024.lvdev.net/event/assessing-the-land-homebuilding-investment-opportunities-of-tomorrow-changing-demographic-population-and-technology-trends/
LOCATION:1435 Brickell Avenue Miami\, FL 33131\, Miami\, Florida\, United States
END:VEVENT
END:VCALENDAR