BEGIN:VCALENDAR
VERSION:2.0
PRODID:-//RCLCO Real Estate Consulting - ECPv4.6.19//NONSGML v1.0//EN
CALSCALE:GREGORIAN
METHOD:PUBLISH
X-WR-CALNAME:RCLCO Real Estate Consulting
X-ORIGINAL-URL:http://rclco2024.lvdev.net
X-WR-CALDESC:Events for RCLCO Real Estate Consulting
BEGIN:VEVENT
DTSTART;TZID=UTC+0:20180421T100000
DTEND;TZID=UTC+0:20180421T105000
DTSTAMP:20260423T184856
CREATED:20181108T214920Z
LAST-MODIFIED:20181112T154451Z
UID:5642-1524304800-1524307800@rclco2024.lvdev.net
SUMMARY:APA National Planning Conference 2018
DESCRIPTION:\nUtah’s Silicon Slopes economy has grown rapidly\, pressuring infrastructure and affordability. Given geographic constraints and funding limitations\, how does the region approach policy and long-range infrastructure\, economic development\, and land-use planning to ensure “broad and equal access to opportunity”?\n\n\n
URL:http://rclco2024.lvdev.net/event/apa-national-planning-conference-2018/
LOCATION:900 Convention Center Blvd\, New Orleans\, LA 70130\, New Orleans\, Louisiana\, United States
CATEGORIES:Speaker
END:VEVENT
END:VCALENDAR