BEGIN:VCALENDAR
VERSION:2.0
PRODID:-//RCLCO Real Estate Consulting - ECPv4.6.19//NONSGML v1.0//EN
CALSCALE:GREGORIAN
METHOD:PUBLISH
X-WR-CALNAME:RCLCO Real Estate Consulting
X-ORIGINAL-URL:http://rclco2024.lvdev.net
X-WR-CALDESC:Events for RCLCO Real Estate Consulting
BEGIN:VEVENT
DTSTART;TZID=UTC+0:20171103T084000
DTEND;TZID=UTC+0:20171103T093000
DTSTAMP:20260423T212956
CREATED:20181108T214851Z
LAST-MODIFIED:20181112T154823Z
UID:5622-1509698400-1509701400@rclco2024.lvdev.net
SUMMARY:American Planning Association Annual Conference (Texas Chapter)
DESCRIPTION:Join the American Planning Association in North Texas for the APATX17 Conference on November 1-3\, 2017\, at the Frisco Conference Center & Embassy Suites Hotel.  Plans for the 2017 State Planning Conference and Short Course include exciting sessions\, mobile workshops\, plenary and luncheon speakers\, and social events.  The Short Course offers training for Planning commissioners and elected officials. Planning Award recipients will be recognized at the Friday Awards Luncheon. AICP members have the opportunity to receive up to 12.5 hours of Certification Maintenance credits during the conference. \n
URL:http://rclco2024.lvdev.net/event/american-planning-association-annual-conference-texas-chapter/
LOCATION:7600 John Q Hammons Dr\, Frisco\, TX 75034\, Frisco\, Texas\, United States
CATEGORIES:Moderator
END:VEVENT
END:VCALENDAR