BEGIN:VCALENDAR
VERSION:2.0
PRODID:-//RCLCO Real Estate Consulting - ECPv4.6.19//NONSGML v1.0//EN
CALSCALE:GREGORIAN
METHOD:PUBLISH
X-WR-CALNAME:RCLCO Real Estate Consulting
X-ORIGINAL-URL:http://rclco2024.lvdev.net
X-WR-CALDESC:Events for RCLCO Real Estate Consulting
BEGIN:VEVENT
DTSTART;TZID=UTC+0:20180607T072000
DTEND;TZID=UTC+0:20180607T082000
DTSTAMP:20260423T160323
CREATED:20181108T215002Z
LAST-MODIFIED:20181112T153743Z
UID:5673-1528356000-1528359600@rclco2024.lvdev.net
SUMMARY:2018 ULI Florida Summit
DESCRIPTION:RCLCO and ULI prepared a report\, Housing in the Evolving American Suburb\, examining the trends and diversity in suburban America and create a more descriptive language for dealing with suburban growth. Gregg Logan of RCLCO will share findings from the report\, with special focus on Florida and the implications for the potential of suburban mixed-use developments. \nGregg Logan is a Managing Director of RCLCO\, with a focus on Community and Resort Development. Gregg is a graduate of UCLA and taught Real Estate Development at Georgia Tech.  Over the past 30 years\, Gregg has worked with leading real estate developers\, land owners\, investors\, builders and public-sector entities helping them make the best development investment and planning decisions for their real estate holdings. \n
URL:http://rclco2024.lvdev.net/event/2018-uli-florida-summit/
LOCATION:280 Vanderbilt Beach Road\, Naples\, FL\, Naples\, Florida\, United States
CATEGORIES:Speaker
END:VEVENT
END:VCALENDAR