BEGIN:VCALENDAR
VERSION:2.0
PRODID:-//RCLCO Real Estate Consulting - ECPv4.6.19//NONSGML v1.0//EN
CALSCALE:GREGORIAN
METHOD:PUBLISH
X-WR-CALNAME:RCLCO Real Estate Consulting
X-ORIGINAL-URL:http://rclco2024.lvdev.net
X-WR-CALDESC:Events for RCLCO Real Estate Consulting
BEGIN:VEVENT
DTSTART;TZID=UTC+0:20180621T073000
DTEND;TZID=UTC+0:20180621T075000
DTSTAMP:20260424T014040
CREATED:20181108T215006Z
LAST-MODIFIED:20181112T153623Z
UID:5676-1529566200-1529567400@rclco2024.lvdev.net
SUMMARY:2018 Society for Corporate Governance National Conference
DESCRIPTION:Join the Society for Corporate Governance in Washington D.C. to connect\, communicate and collaborate with peers and colleagues in the governance industry! \nPanel topics will include:\n\nStrategy and process of planning the composition of a board\nInfluence of the Corporate Secretary\nRole of the Nom & Gov Committee\nDiversity considerations and pool of candidates\nWhat is the ideal target of composition\nHow to determine what is right for your board\n\n  \n
URL:http://rclco2024.lvdev.net/event/2018-society-for-corporate-governance-national-conference/
LOCATION:999 9th St NW\, Washington\, DC 20001\, Washington\, D.C.\, United States
CATEGORIES:Panelist
END:VEVENT
END:VCALENDAR