BEGIN:VCALENDAR
VERSION:2.0
PRODID:-//RCLCO Real Estate Consulting - ECPv4.6.19//NONSGML v1.0//EN
CALSCALE:GREGORIAN
METHOD:PUBLISH
X-WR-CALNAME:RCLCO Real Estate Consulting
X-ORIGINAL-URL:http://rclco2024.lvdev.net
X-WR-CALDESC:Events for RCLCO Real Estate Consulting
BEGIN:VEVENT
DTSTART;TZID=UTC+0:20170710T082000
DTEND;TZID=UTC+0:20170710T084000
DTSTAMP:20260423T175203
CREATED:20181108T214813Z
LAST-MODIFIED:20181112T155230Z
UID:5592-1499674800-1499676000@rclco2024.lvdev.net
SUMMARY:2017 ALSD Sports Venue Design & Build Forum
DESCRIPTION:Stadiums today are what churches were 100 years ago: the focal point of the town’s square. And voters\, who may not pass just a stadium\, do vote for an entire renovation of their downtown. Review a few of the best and brightest of these new real estate districts and what they mean for the future of sports. \n
URL:http://rclco2024.lvdev.net/event/2017-alsd-sports-venue-design-build-forum/
LOCATION:1601 Collins Ave\, Miami Beach\, FL 33139\, Miami Beach\, Florida\, United States
END:VEVENT
END:VCALENDAR